Package: GIGSEA Version: 1.27.0 Command: /home/biocbuild/R/R/bin/R CMD INSTALL GIGSEA StartedAt: 2025-07-14 20:14:20 -0000 (Mon, 14 Jul 2025) EndedAt: 2025-07-14 20:14:27 -0000 (Mon, 14 Jul 2025) EllapsedTime: 6.9 seconds RetCode: 0 Status: OK