Package: GIGSEA Version: 1.27.0 Command: /home/biocbuild/R/R/bin/R CMD check --install=check:GIGSEA.install-out.txt --library=/home/biocbuild/R/R/site-library --no-vignettes --timings GIGSEA_1.27.0.tar.gz StartedAt: 2025-07-15 08:03:39 -0000 (Tue, 15 Jul 2025) EndedAt: 2025-07-15 08:06:02 -0000 (Tue, 15 Jul 2025) EllapsedTime: 143.1 seconds RetCode: 0 Status: OK CheckDir: GIGSEA.Rcheck Warnings: 0