Package: GIGSEA Version: 1.27.0 Command: /home/biocbuild/R/R/bin/R CMD build --keep-empty-dirs --no-resave-data GIGSEA StartedAt: 2025-07-14 23:56:22 -0000 (Mon, 14 Jul 2025) EndedAt: 2025-07-15 00:00:42 -0000 (Tue, 15 Jul 2025) EllapsedTime: 260.1 seconds RetCode: 0 Status: OK PackageFile: GIGSEA_1.27.0.tar.gz PackageFileSize: 1.313 MiB