Package: GIGSEA Version: 1.27.0 Command: F:\biocbuild\bbs-3.22-bioc\R\bin\R.exe CMD INSTALL GIGSEA StartedAt: 2025-06-27 15:18:05 -0400 (Fri, 27 Jun 2025) EndedAt: 2025-06-27 15:18:30 -0400 (Fri, 27 Jun 2025) EllapsedTime: 25.4 seconds RetCode: 0 Status: OK