Package: GIGSEA Version: 1.27.0 Command: F:\biocbuild\bbs-3.22-bioc\R\bin\R.exe CMD check --no-multiarch --install=check:GIGSEA.install-out.txt --library=F:\biocbuild\bbs-3.22-bioc\R\library --no-vignettes --timings GIGSEA_1.27.0.tar.gz StartedAt: 2025-07-01 02:36:18 -0400 (Tue, 01 Jul 2025) EndedAt: 2025-07-01 02:37:50 -0400 (Tue, 01 Jul 2025) EllapsedTime: 91.2 seconds RetCode: 0 Status: OK CheckDir: GIGSEA.Rcheck Warnings: 0