Package: GIGSEA Version: 1.27.0 Command: rm -rf GIGSEA.buildbin-libdir && mkdir GIGSEA.buildbin-libdir && F:\biocbuild\bbs-3.22-bioc\R\bin\R.exe CMD INSTALL --build --library=GIGSEA.buildbin-libdir GIGSEA_1.27.0.tar.gz StartedAt: 2025-06-28 08:51:06 -0400 (Sat, 28 Jun 2025) EndedAt: 2025-06-28 08:51:21 -0400 (Sat, 28 Jun 2025) EllapsedTime: 14.8 seconds RetCode: 0 Status: OK PackageFile: GIGSEA_1.27.0.zip PackageFileSize: 1.73 MiB