Package: GIGSEA Version: 1.27.0 Command: /Library/Frameworks/R.framework/Resources/bin/R CMD build --keep-empty-dirs --no-resave-data GIGSEA StartedAt: 2025-07-14 16:27:01 -0400 (Mon, 14 Jul 2025) EndedAt: 2025-07-14 16:29:13 -0400 (Mon, 14 Jul 2025) EllapsedTime: 131.4 seconds RetCode: 0 Status: OK PackageFile: GIGSEA_1.27.0.tar.gz PackageFileSize: 1.325 MiB