Package: GGPA Version: 1.21.0 Command: /home/biocbuild/R/R/bin/R CMD INSTALL GGPA StartedAt: 2025-07-14 20:21:24 -0000 (Mon, 14 Jul 2025) EndedAt: 2025-07-14 20:22:23 -0000 (Mon, 14 Jul 2025) EllapsedTime: 58.1 seconds RetCode: 0 Status: OK