Package: GGPA Version: 1.21.0 Command: /home/biocbuild/R/R/bin/R CMD build --keep-empty-dirs --no-resave-data GGPA StartedAt: 2025-07-14 23:55:30 -0000 (Mon, 14 Jul 2025) EndedAt: 2025-07-14 23:57:04 -0000 (Mon, 14 Jul 2025) EllapsedTime: 94.1 seconds RetCode: 0 Status: OK PackageFile: GGPA_1.21.0.tar.gz PackageFileSize: 4.703 MiB