Package: GGPA Version: 1.21.0 Command: F:\biocbuild\bbs-3.22-bioc\R\bin\R.exe CMD INSTALL GGPA StartedAt: 2025-07-24 15:39:08 -0400 (Thu, 24 Jul 2025) EndedAt: 2025-07-24 15:39:57 -0400 (Thu, 24 Jul 2025) EllapsedTime: 49.6 seconds RetCode: 0 Status: OK