Package: GGPA Version: 1.21.0 Command: /home/biocbuild/bbs-3.22-bioc/R/bin/R CMD check --install=check:GGPA.install-out.txt --library=/home/biocbuild/bbs-3.22-bioc/R/site-library --timings GGPA_1.21.0.tar.gz StartedAt: 2025-07-14 22:47:21 -0400 (Mon, 14 Jul 2025) EndedAt: 2025-07-14 22:50:34 -0400 (Mon, 14 Jul 2025) EllapsedTime: 193.3 seconds RetCode: 0 Status: OK CheckDir: GGPA.Rcheck Warnings: 0