Package: GGPA Version: 1.21.0 Command: /Library/Frameworks/R.framework/Resources/bin/R CMD INSTALL GGPA StartedAt: 2025-07-16 15:11:10 -0400 (Wed, 16 Jul 2025) EndedAt: 2025-07-16 15:11:43 -0400 (Wed, 16 Jul 2025) EllapsedTime: 32.5 seconds RetCode: 0 Status: OK