Package: GGPA Version: 1.21.0 Command: /Library/Frameworks/R.framework/Resources/bin/R CMD check --install=check:GGPA.install-out.txt --library=/Library/Frameworks/R.framework/Resources/library --no-vignettes --timings GGPA_1.21.0.tar.gz StartedAt: 2025-07-17 20:57:19 -0400 (Thu, 17 Jul 2025) EndedAt: 2025-07-17 21:00:43 -0400 (Thu, 17 Jul 2025) EllapsedTime: 204.1 seconds RetCode: 0 Status: OK CheckDir: GGPA.Rcheck Warnings: 0