Package: GGPA Version: 1.21.0 Command: /Library/Frameworks/R.framework/Resources/bin/R CMD build --keep-empty-dirs --no-resave-data GGPA StartedAt: 2025-07-16 17:04:18 -0400 (Wed, 16 Jul 2025) EndedAt: 2025-07-16 17:05:22 -0400 (Wed, 16 Jul 2025) EllapsedTime: 64.1 seconds RetCode: 0 Status: OK PackageFile: GGPA_1.21.0.tar.gz PackageFileSize: 4.711 MiB