Package: GGPA Version: 1.21.0 Command: /Library/Frameworks/R.framework/Resources/bin/R CMD build --keep-empty-dirs --no-resave-data GGPA StartedAt: 2025-07-16 16:26:14 -0400 (Wed, 16 Jul 2025) EndedAt: 2025-07-16 16:26:40 -0400 (Wed, 16 Jul 2025) EllapsedTime: 26.3 seconds RetCode: 0 Status: OK PackageFile: GGPA_1.21.0.tar.gz PackageFileSize: 4.712 MiB