Package: GGPA Version: 1.21.0 Command: rm -rf GGPA.buildbin-libdir && mkdir GGPA.buildbin-libdir && /Users/biocbuild/BBS/utils/build-universal.sh GGPA_1.21.0.tar.gz /Library/Frameworks/R.framework/Resources/bin/R GGPA.buildbin-libdir StartedAt: 2025-07-16 22:20:05 -0400 (Wed, 16 Jul 2025) EndedAt: 2025-07-16 22:20:16 -0400 (Wed, 16 Jul 2025) EllapsedTime: 11.2 seconds RetCode: 0 Status: OK PackageFile: GGPA_1.21.0.tgz PackageFileSize: 2.862 MiB