Package: GEWIST Version: 1.53.0 Command: /home/biocbuild/R/R/bin/R CMD INSTALL GEWIST StartedAt: 2025-06-30 20:24:09 -0000 (Mon, 30 Jun 2025) EndedAt: 2025-06-30 20:24:35 -0000 (Mon, 30 Jun 2025) EllapsedTime: 26.4 seconds RetCode: 0 Status: OK