Package: GEWIST Version: 1.53.0 Command: /home/biocbuild/R/R/bin/R CMD check --install=check:GEWIST.install-out.txt --library=/home/biocbuild/R/R/site-library --no-vignettes --timings GEWIST_1.53.0.tar.gz StartedAt: 2025-07-01 07:54:37 -0000 (Tue, 01 Jul 2025) EndedAt: 2025-07-01 07:55:57 -0000 (Tue, 01 Jul 2025) EllapsedTime: 80.0 seconds RetCode: 0 Status: OK CheckDir: GEWIST.Rcheck Warnings: 0