Package: GEOquery Version: 2.77.1 Command: F:\biocbuild\bbs-3.22-bioc\R\bin\R.exe CMD INSTALL GEOquery StartedAt: 2025-07-22 15:49:41 -0400 (Tue, 22 Jul 2025) EndedAt: 2025-07-22 15:50:44 -0400 (Tue, 22 Jul 2025) EllapsedTime: 63.5 seconds RetCode: 0 Status: OK