Package: GEOquery Version: 2.77.1 Command: rm -rf GEOquery.buildbin-libdir && mkdir GEOquery.buildbin-libdir && F:\biocbuild\bbs-3.22-bioc\R\bin\R.exe CMD INSTALL --build --library=GEOquery.buildbin-libdir GEOquery_2.77.1.tar.gz StartedAt: 2025-07-23 09:13:28 -0400 (Wed, 23 Jul 2025) EndedAt: 2025-07-23 09:14:23 -0400 (Wed, 23 Jul 2025) EllapsedTime: 54.5 seconds RetCode: 0 Status: OK PackageFile: GEOquery_2.77.1.zip PackageFileSize: 13.37 MiB