Package: GEOquery Version: 2.77.1 Command: /Library/Frameworks/R.framework/Resources/bin/R CMD INSTALL GEOquery StartedAt: 2025-07-13 15:17:49 -0400 (Sun, 13 Jul 2025) EndedAt: 2025-07-13 15:17:59 -0400 (Sun, 13 Jul 2025) EllapsedTime: 10.1 seconds RetCode: 0 Status: OK