Package: GEOquery Version: 2.77.1 Command: /Library/Frameworks/R.framework/Resources/bin/R CMD check --install=check:GEOquery.install-out.txt --library=/Library/Frameworks/R.framework/Resources/library --no-vignettes --timings GEOquery_2.77.1.tar.gz StartedAt: 2025-07-13 19:25:57 -0400 (Sun, 13 Jul 2025) EndedAt: 2025-07-13 19:28:32 -0400 (Sun, 13 Jul 2025) EllapsedTime: 155.0 seconds RetCode: 0 Status: OK CheckDir: GEOquery.Rcheck Warnings: 0