Package: GEOquery Version: 2.77.1 Command: rm -rf GEOquery.buildbin-libdir && mkdir GEOquery.buildbin-libdir && /Users/biocbuild/BBS/utils/build-universal.sh GEOquery_2.77.1.tar.gz /Library/Frameworks/R.framework/Resources/bin/R GEOquery.buildbin-libdir StartedAt: 2025-07-13 22:18:36 -0400 (Sun, 13 Jul 2025) EndedAt: 2025-07-13 22:18:48 -0400 (Sun, 13 Jul 2025) EllapsedTime: 12.2 seconds RetCode: 0 Status: OK PackageFile: GEOquery_2.77.1.tgz PackageFileSize: 13.37 MiB