Package: GEOfastq Version: 1.19.0 Command: /home/biocbuild/bbs-3.23-bioc/R/bin/R CMD build --keep-empty-dirs --no-resave-data GEOfastq StartedAt: 2025-11-17 17:55:01 -0500 (Mon, 17 Nov 2025) EndedAt: 2025-11-17 17:55:12 -0500 (Mon, 17 Nov 2025) EllapsedTime: 11.0 seconds RetCode: 0 Status: OK PackageFile: GEOfastq_1.19.0.tar.gz PackageFileSize: 13.31 KiB