Package: GEOexplorer Version: 1.15.0 Command: /home/biocbuild/bbs-3.22-bioc/R/bin/R CMD INSTALL GEOexplorer StartedAt: 2025-07-11 15:31:03 -0400 (Fri, 11 Jul 2025) EndedAt: 2025-07-11 15:31:43 -0400 (Fri, 11 Jul 2025) EllapsedTime: 39.5 seconds RetCode: 0 Status: OK