Package: GEOexplorer Version: 1.15.0 Command: /Library/Frameworks/R.framework/Resources/bin/R CMD INSTALL GEOexplorer StartedAt: 2025-07-20 15:39:04 -0400 (Sun, 20 Jul 2025) EndedAt: 2025-07-20 15:39:58 -0400 (Sun, 20 Jul 2025) EllapsedTime: 53.7 seconds RetCode: 0 Status: OK