Package: GEOexplorer Version: 1.15.0 Command: /Library/Frameworks/R.framework/Resources/bin/R CMD build --keep-empty-dirs --no-resave-data GEOexplorer StartedAt: 2025-07-20 17:06:00 -0400 (Sun, 20 Jul 2025) EndedAt: 2025-07-20 17:07:03 -0400 (Sun, 20 Jul 2025) EllapsedTime: 63.4 seconds RetCode: 0 Status: OK PackageFile: GEOexplorer_1.15.0.tar.gz PackageFileSize: 11.26 MiB