Package: GEOexplorer Version: 1.15.0 Command: rm -rf GEOexplorer.buildbin-libdir && mkdir GEOexplorer.buildbin-libdir && /Users/biocbuild/BBS/utils/build-universal.sh GEOexplorer_1.15.0.tar.gz /Library/Frameworks/R.framework/Resources/bin/R GEOexplorer.buildbin-libdir StartedAt: 2025-07-21 01:04:43 -0400 (Mon, 21 Jul 2025) EndedAt: 2025-07-21 01:05:50 -0400 (Mon, 21 Jul 2025) EllapsedTime: 66.7 seconds RetCode: 0 Status: OK PackageFile: GEOexplorer_1.15.0.tgz PackageFileSize: 7.431 MiB