Package: GENIE3 Version: 1.31.0 Command: F:\biocbuild\bbs-3.22-bioc\R\bin\R.exe CMD check --no-multiarch --install=check:GENIE3.install-out.txt --library=F:\biocbuild\bbs-3.22-bioc\R\library --no-vignettes --timings GENIE3_1.31.0.tar.gz StartedAt: 2025-07-23 02:27:58 -0400 (Wed, 23 Jul 2025) EndedAt: 2025-07-23 02:28:54 -0400 (Wed, 23 Jul 2025) EllapsedTime: 56.9 seconds RetCode: 0 Status: OK CheckDir: GENIE3.Rcheck Warnings: 0