Package: GENIE3 Version: 1.31.0 Command: /Library/Frameworks/R.framework/Resources/bin/R CMD build --keep-empty-dirs --no-resave-data GENIE3 StartedAt: 2025-10-03 17:08:16 -0400 (Fri, 03 Oct 2025) EndedAt: 2025-10-03 17:08:28 -0400 (Fri, 03 Oct 2025) EllapsedTime: 12.7 seconds RetCode: 0 Status: OK PackageFile: GENIE3_1.31.0.tar.gz PackageFileSize: 241.4 KiB