Package: GENESIS Version: 2.39.1 Command: /Library/Frameworks/R.framework/Resources/bin/R CMD check --install=check:GENESIS.install-out.txt --library=/Library/Frameworks/R.framework/Resources/library --no-vignettes --timings GENESIS_2.39.1.tar.gz StartedAt: 2025-07-17 19:28:13 -0400 (Thu, 17 Jul 2025) EndedAt: 2025-07-17 19:30:30 -0400 (Thu, 17 Jul 2025) EllapsedTime: 136.6 seconds RetCode: 0 Status: OK CheckDir: GENESIS.Rcheck Warnings: 0