Package: GENESIS Version: 2.39.1 Command: /Library/Frameworks/R.framework/Resources/bin/R CMD build --keep-empty-dirs --no-resave-data GENESIS StartedAt: 2025-07-16 16:22:51 -0400 (Wed, 16 Jul 2025) EndedAt: 2025-07-16 16:23:30 -0400 (Wed, 16 Jul 2025) EllapsedTime: 39.5 seconds RetCode: 0 Status: OK PackageFile: GENESIS_2.39.1.tar.gz PackageFileSize: 3.846 MiB