Package: GEM Version: 1.35.0 Command: /Library/Frameworks/R.framework/Resources/bin/R CMD INSTALL GEM StartedAt: 2025-07-01 15:04:32 -0400 (Tue, 01 Jul 2025) EndedAt: 2025-07-01 15:04:37 -0400 (Tue, 01 Jul 2025) EllapsedTime: 4.9 seconds RetCode: 0 Status: OK