Package: GEM Version: 1.35.0 Command: /Library/Frameworks/R.framework/Resources/bin/R CMD check --install=check:GEM.install-out.txt --library=/Library/Frameworks/R.framework/Resources/library --no-vignettes --timings GEM_1.35.0.tar.gz StartedAt: 2025-07-02 19:21:23 -0400 (Wed, 02 Jul 2025) EndedAt: 2025-07-02 19:21:51 -0400 (Wed, 02 Jul 2025) EllapsedTime: 28.3 seconds RetCode: 0 Status: OK CheckDir: GEM.Rcheck Warnings: 0