Package: GEM Version: 1.35.0 Command: rm -rf GEM.buildbin-libdir && mkdir GEM.buildbin-libdir && /Users/biocbuild/BBS/utils/build-universal.sh GEM_1.35.0.tar.gz /Library/Frameworks/R.framework/Resources/bin/R GEM.buildbin-libdir StartedAt: 2025-07-01 22:19:55 -0400 (Tue, 01 Jul 2025) EndedAt: 2025-07-01 22:20:00 -0400 (Tue, 01 Jul 2025) EllapsedTime: 5.1 seconds RetCode: 0 Status: OK PackageFile: GEM_1.35.0.tgz PackageFileSize: 898 KiB