Package: GDCRNATools Version: 1.29.0 Command: /home/biocbuild/bbs-3.22-bioc/R/bin/R CMD INSTALL GDCRNATools StartedAt: 2025-07-01 15:46:38 -0400 (Tue, 01 Jul 2025) EndedAt: 2025-07-01 15:47:35 -0400 (Tue, 01 Jul 2025) EllapsedTime: 56.8 seconds RetCode: 0 Status: OK