Package: GDCRNATools Version: 1.29.0 Command: /Library/Frameworks/R.framework/Resources/bin/R CMD check --install=check:GDCRNATools.install-out.txt --library=/Library/Frameworks/R.framework/Resources/library --no-vignettes --timings GDCRNATools_1.29.0.tar.gz StartedAt: 2025-07-21 19:20:54 -0400 (Mon, 21 Jul 2025) EndedAt: 2025-07-21 19:23:23 -0400 (Mon, 21 Jul 2025) EllapsedTime: 148.9 seconds RetCode: 0 Status: OK CheckDir: GDCRNATools.Rcheck Warnings: 0