Package: GDCRNATools Version: 1.29.0 Command: rm -rf GDCRNATools.buildbin-libdir && mkdir GDCRNATools.buildbin-libdir && /Users/biocbuild/BBS/utils/build-universal.sh GDCRNATools_1.29.0.tar.gz /Library/Frameworks/R.framework/Resources/bin/R GDCRNATools.buildbin-libdir StartedAt: 2025-07-20 22:26:38 -0400 (Sun, 20 Jul 2025) EndedAt: 2025-07-20 22:27:08 -0400 (Sun, 20 Jul 2025) EllapsedTime: 30.6 seconds RetCode: 0 Status: OK PackageFile: GDCRNATools_1.29.0.tgz PackageFileSize: 3.373 MiB