Package: GCPtools Version: 0.99.1 Command: /home/biocbuild/R/R/bin/R CMD INSTALL GCPtools StartedAt: 2025-07-14 20:20:21 -0000 (Mon, 14 Jul 2025) EndedAt: 2025-07-14 20:20:35 -0000 (Mon, 14 Jul 2025) EllapsedTime: 14.7 seconds RetCode: 0 Status: OK