Package: GCPtools Version: 0.99.2 Command: /home/biocbuild/R/R/bin/R CMD check --install=check:GCPtools.install-out.txt --library=/home/biocbuild/R/R/site-library --no-vignettes --timings GCPtools_0.99.2.tar.gz StartedAt: 2025-07-18 06:55:56 -0000 (Fri, 18 Jul 2025) EndedAt: 2025-07-18 06:56:25 -0000 (Fri, 18 Jul 2025) EllapsedTime: 29.0 seconds RetCode: 0 Status: OK CheckDir: GCPtools.Rcheck Warnings: 0