Package: GCPtools Version: 0.99.1 Command: /home/biocbuild/R/R/bin/R CMD build --keep-empty-dirs --no-resave-data GCPtools StartedAt: 2025-07-14 23:42:36 -0000 (Mon, 14 Jul 2025) EndedAt: 2025-07-14 23:42:45 -0000 (Mon, 14 Jul 2025) EllapsedTime: 9.0 seconds RetCode: 0 Status: OK PackageFile: GCPtools_0.99.1.tar.gz PackageFileSize: 367.4 KiB