############################################################################## ############################################################################## ### ### Running command: ### ### /home/biocbuild/R/R/bin/R CMD build --keep-empty-dirs --no-resave-data GCPtools ### ############################################################################## ############################################################################## * checking for file ‘GCPtools/DESCRIPTION’ ... OK * preparing ‘GCPtools’: * checking DESCRIPTION meta-information ... OK * installing the package to build vignettes * creating vignettes ... OK * checking for LF line-endings in source and make files and shell scripts * checking for empty or unneeded directories * building ‘GCPtools_0.99.2.tar.gz’