Package: GCPtools Version: 0.99.1 Command: F:\biocbuild\bbs-3.22-bioc\R\bin\R.exe CMD INSTALL GCPtools StartedAt: 2025-07-16 15:29:14 -0400 (Wed, 16 Jul 2025) EndedAt: 2025-07-16 15:29:26 -0400 (Wed, 16 Jul 2025) EllapsedTime: 11.8 seconds RetCode: 0 Status: OK