Package: GCPtools Version: 0.99.1 Command: chmod a+r GCPtools -R && F:\biocbuild\bbs-3.22-bioc\R\bin\R.exe CMD build --keep-empty-dirs --no-resave-data GCPtools StartedAt: 2025-07-16 19:10:38 -0400 (Wed, 16 Jul 2025) EndedAt: 2025-07-16 19:10:54 -0400 (Wed, 16 Jul 2025) EllapsedTime: 15.4 seconds RetCode: 0 Status: OK PackageFile: GCPtools_0.99.1.tar.gz PackageFileSize: 301.3 KiB