Package: GCPtools Version: 0.99.1 Command: rm -rf GCPtools.buildbin-libdir && mkdir GCPtools.buildbin-libdir && F:\biocbuild\bbs-3.22-bioc\R\bin\R.exe CMD INSTALL --build --library=GCPtools.buildbin-libdir GCPtools_0.99.1.tar.gz StartedAt: 2025-07-17 08:59:57 -0400 (Thu, 17 Jul 2025) EndedAt: 2025-07-17 09:00:11 -0400 (Thu, 17 Jul 2025) EllapsedTime: 14.0 seconds RetCode: 0 Status: OK PackageFile: GCPtools_0.99.1.zip PackageFileSize: 337.1 KiB