Package: GCPtools Version: 0.99.1 Command: /home/biocbuild/bbs-3.22-bioc/R/bin/R CMD INSTALL GCPtools StartedAt: 2025-07-15 15:07:57 -0400 (Tue, 15 Jul 2025) EndedAt: 2025-07-15 15:08:02 -0400 (Tue, 15 Jul 2025) EllapsedTime: 5.0 seconds RetCode: 0 Status: OK