Package: GCPtools Version: 0.99.1 Command: /home/biocbuild/bbs-3.22-bioc/R/bin/R CMD build --keep-empty-dirs --no-resave-data --md5 GCPtools StartedAt: 2025-07-16 17:30:28 -0400 (Wed, 16 Jul 2025) EndedAt: 2025-07-16 17:30:36 -0400 (Wed, 16 Jul 2025) EllapsedTime: 8.0 seconds RetCode: 0 Status: OK PackageFile: GCPtools_0.99.1.tar.gz PackageFileSize: 301.5 KiB