Package: GCPtools Version: 0.99.1 Command: /Library/Frameworks/R.framework/Resources/bin/R CMD INSTALL GCPtools StartedAt: 2025-07-14 15:20:26 -0400 (Mon, 14 Jul 2025) EndedAt: 2025-07-14 15:20:49 -0400 (Mon, 14 Jul 2025) EllapsedTime: 23.0 seconds RetCode: 0 Status: OK