Package: GCPtools Version: 0.99.1 Maintainer: Marcel Ramos MaintainerEmail: marcel.ramos at sph.cuny.edu git_url: https://git.bioconductor.org/packages/GCPtools git_branch: devel git_last_commit: 6190486 git_last_commit_date: 2025-07-10 17:23:57 -0400 (Thu, 10 Jul 2025)