Package: GBScleanR Version: 2.3.2 Command: F:\biocbuild\bbs-3.22-bioc\R\bin\R.exe CMD INSTALL GBScleanR StartedAt: 2025-07-11 15:37:23 -0400 (Fri, 11 Jul 2025) EndedAt: 2025-07-11 15:39:46 -0400 (Fri, 11 Jul 2025) EllapsedTime: 142.8 seconds RetCode: 0 Status: OK